BEGIN:VCALENDAR
VERSION:2.0
PRODID:-//Shreveport Amateur Radio Association K5SAR - ECPv6.15.20//NONSGML v1.0//EN
CALSCALE:GREGORIAN
METHOD:PUBLISH
X-ORIGINAL-URL:https://www.k5sar.com
X-WR-CALDESC:Events for Shreveport Amateur Radio Association K5SAR
REFRESH-INTERVAL;VALUE=DURATION:PT1H
X-Robots-Tag:noindex
X-PUBLISHED-TTL:PT1H
BEGIN:VTIMEZONE
TZID:America/Chicago
BEGIN:DAYLIGHT
TZOFFSETFROM:-0600
TZOFFSETTO:-0500
TZNAME:CDT
DTSTART:20230312T080000
END:DAYLIGHT
BEGIN:STANDARD
TZOFFSETFROM:-0500
TZOFFSETTO:-0600
TZNAME:CST
DTSTART:20231105T070000
END:STANDARD
BEGIN:DAYLIGHT
TZOFFSETFROM:-0600
TZOFFSETTO:-0500
TZNAME:CDT
DTSTART:20240310T080000
END:DAYLIGHT
BEGIN:STANDARD
TZOFFSETFROM:-0500
TZOFFSETTO:-0600
TZNAME:CST
DTSTART:20241103T070000
END:STANDARD
BEGIN:DAYLIGHT
TZOFFSETFROM:-0600
TZOFFSETTO:-0500
TZNAME:CDT
DTSTART:20250309T080000
END:DAYLIGHT
BEGIN:STANDARD
TZOFFSETFROM:-0500
TZOFFSETTO:-0600
TZNAME:CST
DTSTART:20251102T070000
END:STANDARD
END:VTIMEZONE
BEGIN:VEVENT
DTSTART;TZID=America/Chicago:20240601T060000
DTEND;TZID=America/Chicago:20240601T130000
DTSTAMP:20260421T051209
CREATED:20240109T162146Z
LAST-MODIFIED:20240111T184423Z
UID:2966-1717221600-1717246800@www.k5sar.com
SUMMARY:Heart of Hope LifeCycle Event
DESCRIPTION:We run communications for the main fundraiser for the Heart of Hope Women’s Center each year.  We need operators at each of the rest stops and rovers along the bike path. \nContact Bob Davis KB5RD or Tim Hall K5TFH if you would like to assist with this event. \nMUST have an outside antenna on your vehicle and a 25w radio at minimum.
URL:https://www.k5sar.com/event/heart-of-hope-bicycle-event/
LOCATION:Heart of Hope Women’s Center\, 10420 Heart of Hope Way\, Keithville\, LA\, 71047\, United States
ORGANIZER;CN="Bob Davis KB5RD":MAILTO:bobn5zvw@gmail.com
END:VEVENT
BEGIN:VEVENT
DTSTART;TZID=America/Chicago:20240601T083000
DTEND;TZID=America/Chicago:20240601T093000
DTSTAMP:20260421T051209
CREATED:20240109T155312Z
LAST-MODIFIED:20240412T190629Z
UID:2912-1717230600-1717234200@www.k5sar.com
SUMMARY:HAM & Coffee Breakfast
DESCRIPTION:Come join us for some good food and fellowship.  \nAt 0930 in the clubhouse\, Jay Simons KI5KOI will be presenting on “POTA: Parks On The Air” \nGuests are always welcome!
URL:https://www.k5sar.com/event/ham-coffee-breakfast-24/
LOCATION:Greenwood Flea Market Cafe\, 9249 Jefferson Page Rd\, Greenwood\, LA\, 71033\, United States
CATEGORIES:Club Events
END:VEVENT
BEGIN:VEVENT
DTSTART;TZID=America/Chicago:20240611T180000
DTEND;TZID=America/Chicago:20240611T193000
DTSTAMP:20260421T051209
CREATED:20240109T155312Z
LAST-MODIFIED:20240411T172447Z
UID:2913-1718128800-1718134200@www.k5sar.com
SUMMARY:SARA General Meeting
DESCRIPTION:Come join us for the latest in club news and training on a relevent Ham radio topic.  \nRandy Fulco K5SL will be presenting on “Loop Antennas” \nGuests are always welcome!
URL:https://www.k5sar.com/event/sara-general-meeting-22/
LOCATION:Podnuh’s Bar-B-Q\, 9030 Mansfield Rd\, Shreveport\, 71118\, United States
CATEGORIES:Club Events
END:VEVENT
BEGIN:VEVENT
DTSTART;TZID=America/Chicago:20240615T083000
DTEND;TZID=America/Chicago:20240615T103000
DTSTAMP:20260421T051209
CREATED:20240109T155312Z
LAST-MODIFIED:20240402T124730Z
UID:2914-1718440200-1718447400@www.k5sar.com
SUMMARY:Ham License Testing
DESCRIPTION:
URL:https://www.k5sar.com/event/fcc-ve-testing-12/
LOCATION:SARA Clubhouse\, 9249 Jefferson Paige Rd\, Greenwood\, LA\, 71033\, United States
END:VEVENT
BEGIN:VEVENT
DTSTART;TZID=America/Chicago:20240622T130000
DTEND;TZID=America/Chicago:20240623T130000
DTSTAMP:20260421T051209
CREATED:20240109T155320Z
LAST-MODIFIED:20240617T162003Z
UID:2915-1719061200-1719147600@www.k5sar.com
SUMMARY:ARRL Field Day
DESCRIPTION:THIS EVENT IS OPEN TO THE PUBLIC & ALL VISITORS!  Come out and GET ON THE AIR!  If you want to know more about Amatuer Radio\, this is your best opportunity to come out and see it first-hand!
URL:https://www.k5sar.com/event/arrl-field-day-3/
LOCATION:SARA Clubhouse\, 9249 Jefferson Paige Rd\, Greenwood\, LA\, 71033\, United States
CATEGORIES:Club Events
END:VEVENT
END:VCALENDAR